BEGIN:VCALENDAR
VERSION:2.0
PRODID:-//www.ketchikanarts.org//NONSGML kigkonsult.se iCalcreator 2.30.10/
 /
CALSCALE:GREGORIAN
METHOD:PUBLISH
UID:5da7c92f-023a-4172-a4ea-1c36470a3e26
X-WR-CALDESC:A consistently exciting artist\, renowned globally for her spe
 ctacular technique\, sumptuous sound\, deeply probing musicianship\, and “
 irresistible panache” (Chicago Tribune)\, violinist Rachel Lee Priday has 
 appeared as soloist with major international orchestras including the Chic
 ago\, St. Louis\, Seattle\, and Houston Symphonies.\n
X-WR-RELCALID:9a71878b87365e87876e1556adb87bdd
X-WR-TIMEZONE:America/Anchorage
BEGIN:VTIMEZONE
TZID:America/Anchorage
BEGIN:STANDARD
TZNAME:AKST
DTSTART:20251102T020000
TZOFFSETFROM:-0800
TZOFFSETTO:-0900
RDATE:20261101T020000
END:STANDARD
BEGIN:DAYLIGHT
TZNAME:AKDT
DTSTART:20260308T020000
TZOFFSETFROM:-0900
TZOFFSETTO:-0800
RDATE:20270314T020000
END:DAYLIGHT
END:VTIMEZONE
BEGIN:VEVENT
UID:c152a76d-0113-4911-acd4-a8561dcb3336
DTSTAMP:20260424T091200Z
DESCRIPTION:A consistently exciting artist\, renowned globally for her spec
 tacular technique\, sumptuous sound\, deeply probing musicianship\, and “i
 rresistible panache” (Chicago Tribune)\, violinist Rachel Lee Priday has a
 ppeared as soloist with major international orchestras including the Chica
 go\, St. Louis\, Seattle\, and Houston Symphonies.\n
DTSTART;TZID=America/Anchorage:20260425T190000
DTEND;TZID=America/Anchorage:20260425T210000
LOCATION:Saxman Tribal House\, 2706 S. Tongass Hwy\, Saxman\, AK 99901 US
SUMMARY:Island Music: Rachel Priday
END:VEVENT
END:VCALENDAR
