BEGIN:VCALENDAR
VERSION:2.0
PRODID:-//www.ketchikanarts.org//NONSGML kigkonsult.se iCalcreator 2.30.10/
 /
CALSCALE:GREGORIAN
METHOD:PUBLISH
UID:689f98e7-6cb8-496a-a007-90ec4406a7f9
X-WR-CALDESC:ANNUAL MEETING & FISH FEED\n\nSaturday\, April 18\, 2026\nNoon
  to 3 PM\n\nOpen to Arts Council Members and renewing members and membersh
 ip-curious!!!! You may bring a dish to share.
X-WR-RELCALID:e15bc38dc31ac15cd5cc735c373919cd
X-WR-TIMEZONE:America/Anchorage
BEGIN:VTIMEZONE
TZID:America/Anchorage
BEGIN:STANDARD
TZNAME:AKST
DTSTART:20251102T020000
TZOFFSETFROM:-0800
TZOFFSETTO:-0900
RDATE:20261101T020000
END:STANDARD
BEGIN:DAYLIGHT
TZNAME:AKDT
DTSTART:20260308T020000
TZOFFSETFROM:-0900
TZOFFSETTO:-0800
RDATE:20270314T020000
END:DAYLIGHT
END:VTIMEZONE
BEGIN:VEVENT
UID:0ff0ab81-7fd9-48bf-83f5-457868192d8e
DTSTAMP:20260424T091316Z
DESCRIPTION:ANNUAL MEETING & FISH FEED\n\nSaturday\, April 18\, 2026\nNoon 
 to 3 PM\n\nOpen to Arts Council Members and renewing members and membershi
 p-curious!!!! You may bring a dish to share.
DTSTART;TZID=America/Anchorage:20260418T120000
DTEND;TZID=America/Anchorage:20260418T150000
LOCATION:American Legion
SUMMARY:KAAHC Annual Meeting AND Fish Feed!!!!!
END:VEVENT
END:VCALENDAR
