BEGIN:VCALENDAR
VERSION:2.0
PRODID:-//www.ketchikanarts.org//NONSGML kigkonsult.se iCalcreator 2.30.10/
 /
CALSCALE:GREGORIAN
METHOD:PUBLISH
UID:aefe01ec-a45f-40b7-8fd1-fdc97145bcaf
X-WR-CALDESC:Join SEADC Rangers for morning refreshments and bird themed do
 cumentaries on the big screen in the Discovery Center's Elizabeth Peratrov
 ich Theater.
X-WR-RELCALID:a436add28c2257cf15d5febe90cd7d9c
X-WR-TIMEZONE:America/Anchorage
BEGIN:VTIMEZONE
TZID:America/Anchorage
BEGIN:STANDARD
TZNAME:AKST
DTSTART:20251102T020000
TZOFFSETFROM:-0800
TZOFFSETTO:-0900
RDATE:20261101T020000
END:STANDARD
BEGIN:DAYLIGHT
TZNAME:AKDT
DTSTART:20260308T020000
TZOFFSETFROM:-0900
TZOFFSETTO:-0800
RDATE:20270314T020000
END:DAYLIGHT
END:VTIMEZONE
BEGIN:VEVENT
UID:b0ff693a-63eb-4010-af9b-cbf5f02c7844
DTSTAMP:20260424T092411Z
DESCRIPTION:Join SEADC Rangers for morning refreshments and bird themed doc
 umentaries on the big screen in the Discovery Center's Elizabeth Peratrovi
 ch Theater.
DTSTART;TZID=America/Anchorage:20260418T100000
DTEND;TZID=America/Anchorage:20260418T140000
LOCATION:Southeast Alaska Discovery Center
SUMMARY:Birds on the Big Screen - Humming Bird Festival cont.
END:VEVENT
END:VCALENDAR
