BEGIN:VCALENDAR
VERSION:2.0
PRODID:-//www.ketchikanarts.org//NONSGML kigkonsult.se iCalcreator 2.30.10/
 /
CALSCALE:GREGORIAN
METHOD:PUBLISH
UID:87771164-dc40-4694-8c84-0971e56fc898
X-WR-CALDESC:We invite you to join us at the UAS Ketchikan Library for\nCli
 mate\, Culture and Conservation with Katie Orlinsky\nThursday\, April 16th
  @ 7PM at the UAS Ketchikan Campus Library\, 2600 7th Avenue.\nIt is impor
 tant to note that while this is a live stream event it WILL NOT be streame
 d on Facebook. We will be streaming it from UAA.\nWe hope to see you there
 !
X-WR-RELCALID:0f4ccdc4c1b1604445532362d7c36fae
X-WR-TIMEZONE:America/Anchorage
BEGIN:VTIMEZONE
TZID:America/Anchorage
BEGIN:STANDARD
TZNAME:AKST
DTSTART:20251102T020000
TZOFFSETFROM:-0800
TZOFFSETTO:-0900
RDATE:20261101T020000
END:STANDARD
BEGIN:DAYLIGHT
TZNAME:AKDT
DTSTART:20260308T020000
TZOFFSETFROM:-0900
TZOFFSETTO:-0800
RDATE:20270314T020000
END:DAYLIGHT
END:VTIMEZONE
BEGIN:VEVENT
UID:22f98a53-dd3d-497f-a450-c441128f50db
DTSTAMP:20260424T090328Z
DESCRIPTION:We invite you to join us at the UAS Ketchikan Library for\nClim
 ate\, Culture and Conservation with Katie Orlinsky\nThursday\, April 16th 
 @ 7PM at the UAS Ketchikan Campus Library\, 2600 7th Avenue.\nIt is import
 ant to note that while this is a live stream event it WILL NOT be streamed
  on Facebook. We will be streaming it from UAA.\nWe hope to see you there!
DTSTART;TZID=America/Anchorage:20260416T190000
DTEND;TZID=America/Anchorage:20260416T200000
LOCATION:Group Zoom at UAS Ketchikan Library
SUMMARY:Climate\, Culture\, & Conservation (zoom with UAA)
END:VEVENT
END:VCALENDAR
