BEGIN:VCALENDAR
VERSION:2.0
PRODID:-//www.ketchikanarts.org//NONSGML kigkonsult.se iCalcreator 2.30.10/
 /
CALSCALE:GREGORIAN
METHOD:PUBLISH
UID:60318450-26b9-426b-a02e-cef105d7bd1c
X-WR-CALDESC:Join the Ketchikan Chamber Orchestra for a delightful evening 
 of music\, performed by delightful community members. \n\nAdmission is by 
 donation.
X-WR-RELCALID:b841110b4e054978c726ee146ede7720
X-WR-TIMEZONE:America/Anchorage
BEGIN:VTIMEZONE
TZID:America/Anchorage
BEGIN:STANDARD
TZNAME:AKST
DTSTART:20251102T020000
TZOFFSETFROM:-0800
TZOFFSETTO:-0900
RDATE:20261101T020000
END:STANDARD
BEGIN:DAYLIGHT
TZNAME:AKDT
DTSTART:20260308T020000
TZOFFSETFROM:-0900
TZOFFSETTO:-0800
RDATE:20270314T020000
END:DAYLIGHT
END:VTIMEZONE
BEGIN:VEVENT
UID:d15dbbc9-8341-466e-a203-0f8c4848cae1
DTSTAMP:20260424T091933Z
DESCRIPTION:Join the Ketchikan Chamber Orchestra for a delightful evening o
 f music\, performed by delightful community members. \n\nAdmission is by d
 onation.
DTSTART;TZID=America/Anchorage:20260415T190000
DTEND;TZID=America/Anchorage:20260415T203000
LOCATION:First Lutheran Church
SUMMARY:'Spring Awakening' - Ketchikan Chamber Orchestra performance
END:VEVENT
END:VCALENDAR
