BEGIN:VCALENDAR
VERSION:2.0
PRODID:-//www.ketchikanarts.org//NONSGML kigkonsult.se iCalcreator 2.30.10/
 /
CALSCALE:GREGORIAN
METHOD:PUBLISH
UID:b4134f61-ee14-47a5-b321-e0ca16e9c1dd
X-WR-CALDESC:
X-WR-RELCALID:4e867791da415659eff924fcfebb4cc3
X-WR-TIMEZONE:America/Anchorage
BEGIN:VTIMEZONE
TZID:America/Anchorage
BEGIN:STANDARD
TZNAME:AKST
DTSTART:20251102T020000
TZOFFSETFROM:-0800
TZOFFSETTO:-0900
RDATE:20261101T020000
END:STANDARD
BEGIN:DAYLIGHT
TZNAME:AKDT
DTSTART:20260308T020000
TZOFFSETFROM:-0900
TZOFFSETTO:-0800
RDATE:20270314T020000
END:DAYLIGHT
END:VTIMEZONE
BEGIN:VEVENT
UID:21982beb-b56f-47bf-b73c-1bfa095776dc
DTSTAMP:20260424T091954Z
DESCRIPTION:
DTSTART;TZID=America/Anchorage:20260412T100000
DTEND;TZID=America/Anchorage:20260412T120000
LOCATION:60 Don Finney Lane Suite 201\, Ketchikan\, AK
SUMMARY:Writing in the Rain - In Person Writer Circle
END:VEVENT
END:VCALENDAR
