BEGIN:VCALENDAR
VERSION:2.0
PRODID:-//www.ketchikanarts.org//NONSGML kigkonsult.se iCalcreator 2.30.10/
 /
CALSCALE:GREGORIAN
METHOD:PUBLISH
UID:b5f6f1fb-08fb-4eff-badb-7ca17f94ea0c
X-WR-CALDESC:
X-WR-RELCALID:0812a2d97d0e0e9094c4489e343776da
X-WR-TIMEZONE:America/Anchorage
BEGIN:VTIMEZONE
TZID:America/Anchorage
BEGIN:STANDARD
TZNAME:AKST
DTSTART:20251102T020000
TZOFFSETFROM:-0800
TZOFFSETTO:-0900
RDATE:20261101T020000
END:STANDARD
BEGIN:DAYLIGHT
TZNAME:AKDT
DTSTART:20260308T020000
TZOFFSETFROM:-0900
TZOFFSETTO:-0800
RDATE:20270314T020000
END:DAYLIGHT
END:VTIMEZONE
BEGIN:VEVENT
UID:46b9ca59-862d-4171-8a39-50019576bb31
DTSTAMP:20260424T092148Z
DESCRIPTION:
DTSTART;TZID=America/Anchorage:20260411T110000
DTEND;TZID=America/Anchorage:20260411T160000
LOCATION:Craig City Gym
SUMMARY:Prince of Wales Whalefest
END:VEVENT
END:VCALENDAR
