BEGIN:VCALENDAR
VERSION:2.0
PRODID:-//www.ketchikanarts.org//NONSGML kigkonsult.se iCalcreator 2.30.10/
 /
CALSCALE:GREGORIAN
METHOD:PUBLISH
UID:c7507066-ba58-417e-a5cf-51a77d85f692
X-WR-CALDESC:Maker's Market coinciding with Cape Fox's spring rummage event
 !
X-WR-RELCALID:8b25de653a57288b5e7b66d6e2dbf69e
X-WR-TIMEZONE:America/Anchorage
BEGIN:VTIMEZONE
TZID:America/Anchorage
BEGIN:STANDARD
TZNAME:AKST
DTSTART:20251102T020000
TZOFFSETFROM:-0800
TZOFFSETTO:-0900
RDATE:20261101T020000
END:STANDARD
BEGIN:DAYLIGHT
TZNAME:AKDT
DTSTART:20260308T020000
TZOFFSETFROM:-0900
TZOFFSETTO:-0800
RDATE:20270314T020000
END:DAYLIGHT
END:VTIMEZONE
BEGIN:VEVENT
UID:421b4879-7305-4cc9-a6fe-7ec699a50a9a
DTSTAMP:20260424T091035Z
DESCRIPTION:Maker's Market coinciding with Cape Fox's spring rummage event!
DTSTART;TZID=America/Anchorage:20260411T090000
DTEND;TZID=America/Anchorage:20260411T170000
LOCATION:Cape Fox Lodge Eagles Nest in Ketchikan
SUMMARY:Maker's Market - Cape Fox Lodge
END:VEVENT
END:VCALENDAR
