BEGIN:VCALENDAR
VERSION:2.0
PRODID:-//www.ketchikanarts.org//NONSGML kigkonsult.se iCalcreator 2.30.10/
 /
CALSCALE:GREGORIAN
METHOD:PUBLISH
UID:c3e9345a-d9a6-4a7f-b977-4a26a8b4cddf
X-WR-CALDESC:Maker's Market coinciding with a spring rummage event!
X-WR-RELCALID:3d8d2789ca28bd4aa944398bbe48b764
X-WR-TIMEZONE:America/Anchorage
BEGIN:VTIMEZONE
TZID:America/Anchorage
BEGIN:STANDARD
TZNAME:AKST
DTSTART:20251102T020000
TZOFFSETFROM:-0800
TZOFFSETTO:-0900
RDATE:20261101T020000
END:STANDARD
BEGIN:DAYLIGHT
TZNAME:AKDT
DTSTART:20260308T020000
TZOFFSETFROM:-0900
TZOFFSETTO:-0800
RDATE:20270314T020000
END:DAYLIGHT
END:VTIMEZONE
BEGIN:VEVENT
UID:f37a10ea-3876-44d9-abe4-15f034c0a802
DTSTAMP:20260424T091034Z
DESCRIPTION:Maker's Market coinciding with a spring rummage event!
DTSTART;TZID=America/Anchorage:20260410T090000
DTEND;TZID=America/Anchorage:20260410T170000
LOCATION:Cape Fox Lodge
SUMMARY:Maker's Market - Cape Fox Lodge
END:VEVENT
END:VCALENDAR
