BEGIN:VCALENDAR
VERSION:2.0
PRODID:-//www.ketchikanarts.org//NONSGML kigkonsult.se iCalcreator 2.30.10/
 /
CALSCALE:GREGORIAN
METHOD:PUBLISH
UID:b39ead05-ff09-4498-9290-b5008e9e34c9
X-WR-CALDESC:The Ketchikan Indian Community will present on the status of a
 rtifacts being returned to Southeast Alaska.
X-WR-RELCALID:6e734dec650e72a10e7eeb3e8d13085f
X-WR-TIMEZONE:America/Anchorage
BEGIN:VTIMEZONE
TZID:America/Anchorage
BEGIN:STANDARD
TZNAME:AKST
DTSTART:20251102T020000
TZOFFSETFROM:-0800
TZOFFSETTO:-0900
RDATE:20261101T020000
END:STANDARD
BEGIN:DAYLIGHT
TZNAME:AKDT
DTSTART:20260308T020000
TZOFFSETFROM:-0900
TZOFFSETTO:-0800
RDATE:20270314T020000
END:DAYLIGHT
END:VTIMEZONE
BEGIN:VEVENT
UID:8fcb0154-41ab-4b55-be66-86797d7d99cc
DTSTAMP:20260424T091102Z
DESCRIPTION:The Ketchikan Indian Community will present on the status of ar
 tifacts being returned to Southeast Alaska.
DTSTART;TZID=America/Anchorage:20260410T180000
DTEND;TZID=America/Anchorage:20260410T190000
LOCATION:Southeast AK Discovery Center
SUMMARY:Friday Night Insights - KIC Repatriation of Artifacts
END:VEVENT
END:VCALENDAR
