BEGIN:VCALENDAR
VERSION:2.0
PRODID:-//www.ketchikanarts.org//NONSGML kigkonsult.se iCalcreator 2.30.10/
 /
CALSCALE:GREGORIAN
METHOD:PUBLISH
UID:642cbda9-90dd-4eae-aa74-060646857f44
X-WR-CALDESC:The wonderful Stephanie Patton hosts the show After Hours Alas
 ka every Wednesday from 9pm-11pm on KRBD. You can find out more informatio
 n here as she interview musicians on a weekly basis. \n\n
X-WR-RELCALID:67fe72054c7c41a089aeb1d5e557e509
X-WR-TIMEZONE:America/Anchorage
BEGIN:VTIMEZONE
TZID:America/Anchorage
BEGIN:STANDARD
TZNAME:AKST
DTSTART:20251102T020000
TZOFFSETFROM:-0800
TZOFFSETTO:-0900
RDATE:20261101T020000
END:STANDARD
BEGIN:DAYLIGHT
TZNAME:AKDT
DTSTART:20260308T020000
TZOFFSETFROM:-0900
TZOFFSETTO:-0800
RDATE:20270314T020000
END:DAYLIGHT
END:VTIMEZONE
BEGIN:VEVENT
UID:263d91e5-6b3c-45de-8cf1-b3d9f7a84e7f
DTSTAMP:20260424T091104Z
DESCRIPTION:The wonderful Stephanie Patton hosts the show After Hours Alask
 a every Wednesday from 9pm-11pm on KRBD. You can find out more information
  here as she interview musicians on a weekly basis. \n\n
DTSTART;TZID=America/Anchorage:20260408T210000
DTEND;TZID=America/Anchorage:20260408T230000
LOCATION:
SUMMARY:After Hours Alaska
END:VEVENT
END:VCALENDAR
