BEGIN:VCALENDAR
VERSION:2.0
PRODID:-//www.ketchikanarts.org//NONSGML kigkonsult.se iCalcreator 2.30.10/
 /
CALSCALE:GREGORIAN
METHOD:PUBLISH
UID:34dc98eb-38c4-46b6-b5a1-1699234234b0
X-WR-CALDESC:
X-WR-RELCALID:09a4bb7d11214ad08e57df00bc010c05
X-WR-TIMEZONE:America/Anchorage
BEGIN:VTIMEZONE
TZID:America/Anchorage
BEGIN:STANDARD
TZNAME:AKST
DTSTART:20251102T020000
TZOFFSETFROM:-0800
TZOFFSETTO:-0900
RDATE:20261101T020000
END:STANDARD
BEGIN:DAYLIGHT
TZNAME:AKDT
DTSTART:20260308T020000
TZOFFSETFROM:-0900
TZOFFSETTO:-0800
RDATE:20270314T020000
END:DAYLIGHT
END:VTIMEZONE
BEGIN:VEVENT
UID:2f2767cc-0745-47d3-8055-acc75a62d736
DTSTAMP:20260424T090913Z
DESCRIPTION:
DTSTART;TZID=America/Anchorage:20260403T160000
DTEND;TZID=America/Anchorage:20260403T180000
LOCATION:Participating businesses around City of Craig
SUMMARY:First Friday Art Walk - Craig\, AK
END:VEVENT
END:VCALENDAR
