BEGIN:VCALENDAR
VERSION:2.0
PRODID:-//www.ketchikanarts.org//NONSGML kigkonsult.se iCalcreator 2.30.10/
 /
CALSCALE:GREGORIAN
METHOD:PUBLISH
UID:8055dc95-f7b0-472c-b93c-589e58fbeda5
X-WR-CALDESC:
X-WR-RELCALID:7061e69457bfb2c17d8dedbf109e9cea
X-WR-TIMEZONE:America/Anchorage
BEGIN:VTIMEZONE
TZID:America/Anchorage
BEGIN:STANDARD
TZNAME:AKST
DTSTART:20251102T020000
TZOFFSETFROM:-0800
TZOFFSETTO:-0900
RDATE:20261101T020000
END:STANDARD
BEGIN:DAYLIGHT
TZNAME:AKDT
DTSTART:20260308T020000
TZOFFSETFROM:-0900
TZOFFSETTO:-0800
RDATE:20270314T020000
END:DAYLIGHT
END:VTIMEZONE
BEGIN:VEVENT
UID:b23a1b1a-6f04-4777-b464-c0a3968da6f7
DTSTAMP:20260424T091103Z
DESCRIPTION:
DTSTART;TZID=America/Anchorage:20260403T193000
DTEND;TZID=America/Anchorage:20260403T210000
LOCATION:Saxman Tribal House
SUMMARY:Cry It Out - A FCP Dramedy
END:VEVENT
END:VCALENDAR
