BEGIN:VCALENDAR
VERSION:2.0
PRODID:-//www.ketchikanarts.org//NONSGML kigkonsult.se iCalcreator 2.30.10/
 /
CALSCALE:GREGORIAN
METHOD:PUBLISH
UID:3ed9fb7d-9684-4126-9327-73284f40405f
X-WR-CALDESC:$5 at the door - All are welcome!!!\n\nAll dances are taught -
  Live music by The Free Radicals!!!
X-WR-RELCALID:75bbe257fe97cc28516e58dbc3b02448
X-WR-TIMEZONE:America/Anchorage
BEGIN:VTIMEZONE
TZID:America/Anchorage
BEGIN:STANDARD
TZNAME:AKST
DTSTART:20261101T020000
TZOFFSETFROM:-0800
TZOFFSETTO:-0900
RDATE:20271107T020000
RDATE:20281105T020000
END:STANDARD
BEGIN:DAYLIGHT
TZNAME:AKDT
DTSTART:20270314T020000
TZOFFSETFROM:-0900
TZOFFSETTO:-0800
RDATE:20280312T020000
END:DAYLIGHT
END:VTIMEZONE
BEGIN:VEVENT
UID:13a61f63-c766-4ab4-8cbf-877aa32772d2
DTSTAMP:20260425T042625Z
DESCRIPTION:$5 at the door - All are welcome!!!\n\nAll dances are taught - 
 Live music by The Free Radicals!!!
DTSTART;TZID=America/Anchorage:20270514T190000
DTEND;TZID=America/Anchorage:20270514T210000
LOCATION:Creek Street Cabaret
SUMMARY:Square Dance!!!
END:VEVENT
END:VCALENDAR
