BEGIN:VCALENDAR
VERSION:2.0
PRODID:-//www.ketchikanarts.org//NONSGML kigkonsult.se iCalcreator 2.30.10/
 /
CALSCALE:GREGORIAN
METHOD:PUBLISH
UID:cbac1498-aa06-4039-b4fe-cf648285b95f
X-WR-CALDESC:$5 at the door - All are welcome!!!\n\nAll dances are taught -
  Live music by The Free Radicals!!!
X-WR-RELCALID:175377b499e24b620349e123e670b487
X-WR-TIMEZONE:America/Anchorage
BEGIN:VTIMEZONE
TZID:America/Anchorage
BEGIN:STANDARD
TZNAME:AKST
DTSTART:20261101T020000
TZOFFSETFROM:-0800
TZOFFSETTO:-0900
RDATE:20271107T020000
END:STANDARD
BEGIN:DAYLIGHT
TZNAME:AKDT
DTSTART:20270314T020000
TZOFFSETFROM:-0900
TZOFFSETTO:-0800
RDATE:20280312T020000
END:DAYLIGHT
END:VTIMEZONE
BEGIN:VEVENT
UID:712656a1-2411-41fd-b863-5e9a1727b5bb
DTSTAMP:20260425T012510Z
DESCRIPTION:$5 at the door - All are welcome!!!\n\nAll dances are taught - 
 Live music by The Free Radicals!!!
DTSTART;TZID=America/Anchorage:20270312T190000
DTEND;TZID=America/Anchorage:20270312T210000
LOCATION:Creek Street Cabaret
SUMMARY:Square Dance!!!
END:VEVENT
END:VCALENDAR
