BEGIN:VCALENDAR
VERSION:2.0
PRODID:-//www.ketchikanarts.org//NONSGML kigkonsult.se iCalcreator 2.30.10/
 /
CALSCALE:GREGORIAN
METHOD:PUBLISH
UID:b38a67ca-e387-4000-93d3-be6f5efcc377
X-WR-CALDESC:
X-WR-RELCALID:1b3a4c3ee9de6e3f067d1c8d59f95ffc
X-WR-TIMEZONE:America/Anchorage
BEGIN:VTIMEZONE
TZID:America/Anchorage
BEGIN:STANDARD
TZNAME:AKST
DTSTART:20261101T020000
TZOFFSETFROM:-0800
TZOFFSETTO:-0900
RDATE:20271107T020000
END:STANDARD
BEGIN:DAYLIGHT
TZNAME:AKDT
DTSTART:20260308T020000
TZOFFSETFROM:-0900
TZOFFSETTO:-0800
RDATE:20270314T020000
RDATE:20280312T020000
END:DAYLIGHT
END:VTIMEZONE
BEGIN:VEVENT
UID:97b57e0a-271e-4e54-a7d2-1e1dabc36801
DTSTAMP:20260424T235307Z
DESCRIPTION:
DTSTART;TZID=America/Anchorage:20270216T020000
DTEND;TZID=America/Anchorage:20270216T020001
LOCATION:
SUMMARY:Elizabeth Peratrovich Day!
END:VEVENT
END:VCALENDAR
