BEGIN:VCALENDAR
VERSION:2.0
PRODID:-//www.ketchikanarts.org//NONSGML kigkonsult.se iCalcreator 2.30.10/
 /
CALSCALE:GREGORIAN
METHOD:PUBLISH
UID:971de5dc-2ee3-42d8-94a9-9e45f7949eca
X-WR-CALDESC:The KCCB Board meets the 3rd Monday of the month prior to rehe
 arsal\, at the Ketchikan First Assembly of God.
X-WR-RELCALID:2ce164da9dae8810b4cdbce4ca78ef8b
X-WR-TIMEZONE:America/Anchorage
BEGIN:VTIMEZONE
TZID:America/Anchorage
BEGIN:STANDARD
TZNAME:AKST
DTSTART:20261101T020000
TZOFFSETFROM:-0800
TZOFFSETTO:-0900
RDATE:20271107T020000
END:STANDARD
BEGIN:DAYLIGHT
TZNAME:AKDT
DTSTART:20260308T020000
TZOFFSETFROM:-0900
TZOFFSETTO:-0800
RDATE:20270314T020000
RDATE:20280312T020000
END:DAYLIGHT
END:VTIMEZONE
BEGIN:VEVENT
UID:d40880c8-b9fe-4ad8-9594-8b1f48631198
DTSTAMP:20260424T235849Z
DESCRIPTION:The KCCB Board meets the 3rd Monday of the month prior to rehea
 rsal\, at the Ketchikan First Assembly of God.
DTSTART;TZID=America/Anchorage:20270215T173000
DTEND;TZID=America/Anchorage:20270215T183000
LOCATION:3225 Fairview Ave\, Ketchikan\, AK 99001 US
SUMMARY:Ketchikan Community Concert Band Board Meeting
END:VEVENT
END:VCALENDAR
