BEGIN:VCALENDAR
VERSION:2.0
PRODID:-//www.ketchikanarts.org//NONSGML kigkonsult.se iCalcreator 2.30.10/
 /
CALSCALE:GREGORIAN
METHOD:PUBLISH
UID:090adf93-c8f7-4d7c-8b2f-06db02ea504e
X-WR-CALDESC:Monthly Board of Directors Meeting. Currently all KAAHC Board 
 meetings are held in person. If you would like to attend a Board meeting p
 lease contact Kathleen Light for information. kathleenl@ketchikanarts.org
X-WR-RELCALID:efcf1bee44f733832fcd6a647442be07
X-WR-TIMEZONE:America/Anchorage
BEGIN:VTIMEZONE
TZID:America/Anchorage
BEGIN:STANDARD
TZNAME:AKST
DTSTART:20261101T020000
TZOFFSETFROM:-0800
TZOFFSETTO:-0900
RDATE:20271107T020000
END:STANDARD
BEGIN:DAYLIGHT
TZNAME:AKDT
DTSTART:20260308T020000
TZOFFSETFROM:-0900
TZOFFSETTO:-0800
RDATE:20270314T020000
RDATE:20280312T020000
END:DAYLIGHT
END:VTIMEZONE
BEGIN:VEVENT
UID:9a31981c-981d-4527-9215-997d89b43613
DTSTAMP:20260424T221146Z
DESCRIPTION:Monthly Board of Directors Meeting. Currently all KAAHC Board m
 eetings are held in person. If you would like to attend a Board meeting pl
 ease contact Kathleen Light for information. kathleenl@ketchikanarts.org
DTSTART;TZID=America/Anchorage:20270120T173000
DTEND;TZID=America/Anchorage:20270120T190000
LOCATION:330 Main Street
SUMMARY:Ketchikan Area Arts and Humanities Board of Directors Meeting
END:VEVENT
END:VCALENDAR
