BEGIN:VCALENDAR
VERSION:2.0
PRODID:-//www.ketchikanarts.org//NONSGML kigkonsult.se iCalcreator 2.30.10/
 /
CALSCALE:GREGORIAN
METHOD:PUBLISH
UID:b16187c5-dabc-4c18-a93b-d94087efc9d0
X-WR-CALDESC:
X-WR-RELCALID:bfa7c03b4b2bba5a49decae0193991de
X-WR-TIMEZONE:America/Anchorage
BEGIN:VTIMEZONE
TZID:America/Anchorage
BEGIN:STANDARD
TZNAME:AKST
DTSTART:20251102T020000
TZOFFSETFROM:-0800
TZOFFSETTO:-0900
RDATE:20261101T020000
RDATE:20271107T020000
END:STANDARD
BEGIN:DAYLIGHT
TZNAME:AKDT
DTSTART:20260308T020000
TZOFFSETFROM:-0900
TZOFFSETTO:-0800
RDATE:20270314T020000
END:DAYLIGHT
END:VTIMEZONE
BEGIN:VEVENT
UID:b7c1466b-0575-4487-914f-570dc03843b8
DTSTAMP:20260424T133650Z
DESCRIPTION:
DTSTART;TZID=America/Anchorage:20260713T170000
DTEND;TZID=America/Anchorage:20260713T173000
LOCATION:https://www.ketchikanarts.org/programs-events/local-arts-and-cultu
 re/gigglefeet-dance-festival/gigglefeet-dance-festival-registration.html
SUMMARY:Gigglefeet Registration Deadline
END:VEVENT
END:VCALENDAR
