BEGIN:VCALENDAR
VERSION:2.0
PRODID:-//www.ketchikanarts.org//NONSGML kigkonsult.se iCalcreator 2.30.10/
 /
CALSCALE:GREGORIAN
METHOD:PUBLISH
UID:73d297f3-c1b0-4a3a-9bd5-5e97a4862af3
X-WR-CALDESC:
X-WR-RELCALID:3c36502ed03d79a3890f6f9eb98c1dc4
X-WR-TIMEZONE:America/Anchorage
BEGIN:VTIMEZONE
TZID:America/Anchorage
BEGIN:STANDARD
TZNAME:AKST
DTSTART:20251102T020000
TZOFFSETFROM:-0800
TZOFFSETTO:-0900
RDATE:20261101T020000
RDATE:20271107T020000
END:STANDARD
BEGIN:DAYLIGHT
TZNAME:AKDT
DTSTART:20260308T020000
TZOFFSETFROM:-0900
TZOFFSETTO:-0800
RDATE:20270314T020000
END:DAYLIGHT
END:VTIMEZONE
BEGIN:VEVENT
UID:0c0db6ae-b117-49ec-85ec-5c63e3aea350
DTSTAMP:20260424T134934Z
DESCRIPTION:
DTSTART;TZID=America/Anchorage:20260704T140000
DTEND;TZID=America/Anchorage:20260704T150000
LOCATION:TBD
SUMMARY:'Run Like Its 1776' Ketchikan Running Club
END:VEVENT
END:VCALENDAR
