BEGIN:VCALENDAR
VERSION:2.0
PRODID:-//www.ketchikanarts.org//NONSGML kigkonsult.se iCalcreator 2.30.10/
 /
CALSCALE:GREGORIAN
METHOD:PUBLISH
UID:4b50ee9d-8b8e-406f-885c-d8a87e13e02f
X-WR-CALDESC:Weekly live music to accompany your dining or drinking. No res
 ervations and the place can fill up quick. Some Fridays might not have a p
 erformance\, so be forewarned of unexpected cancellations. The playlists o
 n speaker are generally great enough\, so either way its worth a Friday ni
 ght social hour.
X-WR-RELCALID:de9bc130d2fdab19c174c547b0705345
X-WR-TIMEZONE:America/Anchorage
BEGIN:VTIMEZONE
TZID:America/Anchorage
BEGIN:STANDARD
TZNAME:AKST
DTSTART:20251102T020000
TZOFFSETFROM:-0800
TZOFFSETTO:-0900
RDATE:20261101T020000
RDATE:20271107T020000
END:STANDARD
BEGIN:DAYLIGHT
TZNAME:AKDT
DTSTART:20260308T020000
TZOFFSETFROM:-0900
TZOFFSETTO:-0800
RDATE:20270314T020000
END:DAYLIGHT
END:VTIMEZONE
BEGIN:VEVENT
UID:83ac1a2f-43a8-449a-b5ee-3485374502e7
DTSTAMP:20260424T122351Z
DESCRIPTION:Weekly live music to accompany your dining or drinking. No rese
 rvations and the place can fill up quick. Some Fridays might not have a pe
 rformance\, so be forewarned of unexpected cancellations. The playlists on
  speaker are generally great enough\, so either way its worth a Friday nig
 ht social hour.
DTSTART;TZID=America/Anchorage:20260626T190000
DTEND;TZID=America/Anchorage:20260626T210000
LOCATION:the New York Cafe on Stedman St.
SUMMARY:Live Music @ the New York Cafe
END:VEVENT
END:VCALENDAR
