BEGIN:VCALENDAR
VERSION:2.0
PRODID:-//www.ketchikanarts.org//NONSGML kigkonsult.se iCalcreator 2.30.10/
 /
CALSCALE:GREGORIAN
METHOD:PUBLISH
UID:17bf72a4-e815-4e90-9efe-a7eab33a7787
X-WR-CALDESC:We are excited to share that the 3rd annual WE BELONG Block Pa
 rty is set for Saturday\, JUNE 20th 11am-3pm.  As in years past\, the bloc
 k party celebrates Ketchikan’s cultural diversity and the uplifts the spir
 it of belonging.  We are looking for food vendors\, artists\, and performe
 rs to be involved!
X-WR-RELCALID:35b93ed5da1c68319bfef044cb5c2efd
X-WR-TIMEZONE:America/Anchorage
BEGIN:VTIMEZONE
TZID:America/Anchorage
BEGIN:STANDARD
TZNAME:AKST
DTSTART:20251102T020000
TZOFFSETFROM:-0800
TZOFFSETTO:-0900
RDATE:20261101T020000
RDATE:20271107T020000
END:STANDARD
BEGIN:DAYLIGHT
TZNAME:AKDT
DTSTART:20260308T020000
TZOFFSETFROM:-0900
TZOFFSETTO:-0800
RDATE:20270314T020000
END:DAYLIGHT
END:VTIMEZONE
BEGIN:VEVENT
UID:1f77ac31-3e8d-48b5-842e-36aa1aae39a2
DTSTAMP:20260424T121631Z
DESCRIPTION:We are excited to share that the 3rd annual WE BELONG Block Par
 ty is set for Saturday\, JUNE 20th 11am-3pm.  As in years past\, the block
  party celebrates Ketchikan’s cultural diversity and the uplifts the spiri
 t of belonging.  We are looking for food vendors\, artists\, and performer
 s to be involved!
DTSTART;TZID=America/Anchorage:20260620T110000
DTEND;TZID=America/Anchorage:20260620T150000
LOCATION:Main Street between Dock and Mission
SUMMARY:We Belong Block Party - Ketchikan Wellness Coalition
END:VEVENT
END:VCALENDAR
