BEGIN:VCALENDAR
VERSION:2.0
PRODID:-//www.ketchikanarts.org//NONSGML kigkonsult.se iCalcreator 2.30.10/
 /
CALSCALE:GREGORIAN
METHOD:PUBLISH
UID:e3bbbf5b-3ad0-4ee2-89bb-8ca21cb93b5f
X-WR-CALDESC:More information and tickets to come!!!
X-WR-RELCALID:40c9f82929f6b7bd5f5d47fb3c472aec
X-WR-TIMEZONE:America/Anchorage
BEGIN:VTIMEZONE
TZID:America/Anchorage
BEGIN:STANDARD
TZNAME:AKST
DTSTART:20251102T020000
TZOFFSETFROM:-0800
TZOFFSETTO:-0900
RDATE:20261101T020000
RDATE:20271107T020000
END:STANDARD
BEGIN:DAYLIGHT
TZNAME:AKDT
DTSTART:20260308T020000
TZOFFSETFROM:-0900
TZOFFSETTO:-0800
RDATE:20270314T020000
END:DAYLIGHT
END:VTIMEZONE
BEGIN:VEVENT
UID:4a333c91-3baa-4548-8276-c50ccf05fedd
DTSTAMP:20260424T122135Z
DESCRIPTION:More information and tickets to come!!!
DTSTART;TZID=America/Anchorage:20260620T190000
DTEND;TZID=America/Anchorage:20260620T203000
LOCATION:Kyhi Auditorium
SUMMARY:'Synergy' - Andiamo Dance Company
END:VEVENT
END:VCALENDAR
