BEGIN:VCALENDAR
VERSION:2.0
PRODID:-//www.ketchikanarts.org//NONSGML kigkonsult.se iCalcreator 2.30.10/
 /
CALSCALE:GREGORIAN
METHOD:PUBLISH
UID:9b68e544-265e-41db-a831-f24b5646d06a
X-WR-CALDESC:More information and tickets to come!!!
X-WR-RELCALID:8f8827a54b0996b4a2215826e5910f43
X-WR-TIMEZONE:America/Anchorage
BEGIN:VTIMEZONE
TZID:America/Anchorage
BEGIN:STANDARD
TZNAME:AKST
DTSTART:20251102T020000
TZOFFSETFROM:-0800
TZOFFSETTO:-0900
RDATE:20261101T020000
RDATE:20271107T020000
END:STANDARD
BEGIN:DAYLIGHT
TZNAME:AKDT
DTSTART:20260308T020000
TZOFFSETFROM:-0900
TZOFFSETTO:-0800
RDATE:20270314T020000
END:DAYLIGHT
END:VTIMEZONE
BEGIN:VEVENT
UID:4770d8a5-e6e1-4c2f-b037-41225e17b730
DTSTAMP:20260424T122155Z
DESCRIPTION:More information and tickets to come!!!
DTSTART;TZID=America/Anchorage:20260619T190000
DTEND;TZID=America/Anchorage:20260619T203000
LOCATION:Kyhi Auditorium
SUMMARY:'Synergy' - Andiamo Dance Company
END:VEVENT
END:VCALENDAR
