BEGIN:VCALENDAR
VERSION:2.0
PRODID:-//www.ketchikanarts.org//NONSGML kigkonsult.se iCalcreator 2.30.10/
 /
CALSCALE:GREGORIAN
METHOD:PUBLISH
UID:afabc981-28e1-422a-a1ce-dc051526de7b
X-WR-CALDESC:
X-WR-RELCALID:cc2d4905896af20541070b2877935ba1
X-WR-TIMEZONE:America/Anchorage
BEGIN:VTIMEZONE
TZID:America/Anchorage
BEGIN:STANDARD
TZNAME:AKST
DTSTART:20251102T020000
TZOFFSETFROM:-0800
TZOFFSETTO:-0900
RDATE:20261101T020000
RDATE:20271107T020000
END:STANDARD
BEGIN:DAYLIGHT
TZNAME:AKDT
DTSTART:20260308T020000
TZOFFSETFROM:-0900
TZOFFSETTO:-0800
RDATE:20270314T020000
END:DAYLIGHT
END:VTIMEZONE
BEGIN:VEVENT
UID:39b36a1c-5dc9-44be-9ffd-064cdcd04ce3
DTSTAMP:20260424T104424Z
DESCRIPTION:
DTSTART;TZID=America/Anchorage:20260531T020000
DTEND;TZID=America/Anchorage:20260531T020001
LOCATION:Petersburg Medical Center\, Petersburg\, Southeast Alaska
SUMMARY:Petursbur Medical Center - Call to Artists
END:VEVENT
END:VCALENDAR
