BEGIN:VCALENDAR
VERSION:2.0
PRODID:-//www.ketchikanarts.org//NONSGML kigkonsult.se iCalcreator 2.30.10/
 /
CALSCALE:GREGORIAN
METHOD:PUBLISH
UID:cca8535c-d85f-4122-b607-62273a6030a4
X-WR-CALDESC:Bring your ukulele and have some fun playing with the group.\n
 Meets on Wednesdays at 3:45pm at the Inn at Creek Street!
X-WR-RELCALID:8985b0add272115ecb3ac585301f9191
X-WR-TIMEZONE:America/Anchorage
BEGIN:VTIMEZONE
TZID:America/Anchorage
BEGIN:STANDARD
TZNAME:AKST
DTSTART:20251102T020000
TZOFFSETFROM:-0800
TZOFFSETTO:-0900
RDATE:20261101T020000
RDATE:20271107T020000
END:STANDARD
BEGIN:DAYLIGHT
TZNAME:AKDT
DTSTART:20260308T020000
TZOFFSETFROM:-0900
TZOFFSETTO:-0800
RDATE:20270314T020000
END:DAYLIGHT
END:VTIMEZONE
BEGIN:VEVENT
UID:c8f10307-2c43-4f90-b7c3-dca876a1ac91
DTSTAMP:20260424T105930Z
DESCRIPTION:Bring your ukulele and have some fun playing with the group.\nM
 eets on Wednesdays at 3:45pm at the Inn at Creek Street!
DTSTART;TZID=America/Anchorage:20260513T154500
DTEND;TZID=America/Anchorage:20260513T164500
LOCATION:Bayside Hotel Lobby
SUMMARY:The Ukelele Group
END:VEVENT
END:VCALENDAR
