BEGIN:VCALENDAR
VERSION:2.0
PRODID:-//www.ketchikanarts.org//NONSGML kigkonsult.se iCalcreator 2.30.10/
 /
CALSCALE:GREGORIAN
METHOD:PUBLISH
UID:36ed0c5c-72d9-467a-9ce6-c62766642bf8
X-WR-CALDESC:In 2021\, after the Schoenbar Trail had been defaced with graf
 fiti several times\, the KAAHC Diversity and Inclusion Committee sought to
  understand how ART might\npositively transform the trail from a historica
 lly dangerous area for women and youth\, to something beautiful\, safe\, a
 nd celebratory. After walking the trail together\nand considering its plac
 e in the community\, the Committee determined the symbol of a canoe\, whic
 h requires everyone to pull together\, to be appropriate for the\nbasis of
  a new public art piece. \nThrough a public selection process in 2024\, lo
 cal Tlingit artist Rhonda Green was selected to create the Kichxáan Heéni 
 Canoe: “Yaakw Haash át wulihaash a d’ein óoxjaa” (Canoe Drifting in the Wi
 nd).\n\nThis project has been fully funded through grants.
X-WR-RELCALID:d404675940ec8ce598621b2ccbb1af75
X-WR-TIMEZONE:America/Anchorage
BEGIN:VTIMEZONE
TZID:America/Anchorage
BEGIN:STANDARD
TZNAME:AKST
DTSTART:20251102T020000
TZOFFSETFROM:-0800
TZOFFSETTO:-0900
RDATE:20261101T020000
END:STANDARD
BEGIN:DAYLIGHT
TZNAME:AKDT
DTSTART:20260308T020000
TZOFFSETFROM:-0900
TZOFFSETTO:-0800
RDATE:20270314T020000
END:DAYLIGHT
END:VTIMEZONE
BEGIN:VEVENT
UID:6ceb0629-47d7-4a0c-9996-d9e459524952
DTSTAMP:20260424T104511Z
DESCRIPTION:In 2021\, after the Schoenbar Trail had been defaced with graff
 iti several times\, the KAAHC Diversity and Inclusion Committee sought to 
 understand how ART might\npositively transform the trail from a historical
 ly dangerous area for women and youth\, to something beautiful\, safe\, an
 d celebratory. After walking the trail together\nand considering its place
  in the community\, the Committee determined the symbol of a canoe\, which
  requires everyone to pull together\, to be appropriate for the\nbasis of 
 a new public art piece. \nThrough a public selection process in 2024\, loc
 al Tlingit artist Rhonda Green was selected to create the Kichxáan Heéni C
 anoe: “Yaakw Haash át wulihaash a d’ein óoxjaa” (Canoe Drifting in the Win
 d).\n\nThis project has been fully funded through grants.
DTSTART;TZID=America/Anchorage:20260501T180000
DTEND;TZID=America/Anchorage:20260501T190000
LOCATION:Crossroads of Schoenbar Trail
SUMMARY:Unveiling of Kichxáan Heéni Canoe: “Yaakw Haash át wulihaash a d’ei
 n óoxjaa” (Canoe Drifting in the Wind)\, by local Tlingit artist Rhonda Gr
 een
END:VEVENT
END:VCALENDAR
