BEGIN:VCALENDAR
VERSION:2.0
PRODID:-//www.ketchikanarts.org//NONSGML kigkonsult.se iCalcreator 2.30.10/
 /
CALSCALE:GREGORIAN
METHOD:PUBLISH
UID:ec605108-1115-4821-bb71-fc899a7dd9dd
X-WR-CALDESC:The Creek Street Cabaret welcomes special guest and musician/b
 assist Tom Ferry. (Charity TBA)\nCome join us for an evening of fun and en
 tertainment. We look forward to seeing you there
X-WR-RELCALID:73fe3da14b4aad8dcaa5f4ad8a225a1e
X-WR-TIMEZONE:America/Anchorage
BEGIN:VTIMEZONE
TZID:America/Anchorage
BEGIN:STANDARD
TZNAME:AKST
DTSTART:20251102T020000
TZOFFSETFROM:-0800
TZOFFSETTO:-0900
RDATE:20261101T020000
END:STANDARD
BEGIN:DAYLIGHT
TZNAME:AKDT
DTSTART:20260308T020000
TZOFFSETFROM:-0900
TZOFFSETTO:-0800
RDATE:20270314T020000
END:DAYLIGHT
END:VTIMEZONE
BEGIN:VEVENT
UID:0020412c-47d6-495d-a9fc-9692639ce0ac
DTSTAMP:20260424T103411Z
DESCRIPTION:The Creek Street Cabaret welcomes special guest and musician/ba
 ssist Tom Ferry. (Charity TBA)\nCome join us for an evening of fun and ent
 ertainment. We look forward to seeing you there
DTSTART;TZID=America/Anchorage:20260425T193000
DTEND;TZID=America/Anchorage:20260425T210000
LOCATION:Creekstreet Cabaret
SUMMARY:Cabaret on the Couch
END:VEVENT
END:VCALENDAR
