BEGIN:VCALENDAR
VERSION:2.0
PRODID:-//www.ketchikanarts.org//NONSGML kigkonsult.se iCalcreator 2.30.10/
 /
CALSCALE:GREGORIAN
METHOD:PUBLISH
UID:131c4c1b-bf31-4c20-81b2-7f771a7f500b
X-WR-CALDESC:
X-WR-RELCALID:54f472b26283168fa2a0894b289dea81
X-WR-TIMEZONE:America/Anchorage
BEGIN:VTIMEZONE
TZID:America/Anchorage
BEGIN:STANDARD
TZNAME:AKST
DTSTART:20251102T020000
TZOFFSETFROM:-0800
TZOFFSETTO:-0900
RDATE:20261101T020000
END:STANDARD
BEGIN:DAYLIGHT
TZNAME:AKDT
DTSTART:20260308T020000
TZOFFSETFROM:-0900
TZOFFSETTO:-0800
RDATE:20270314T020000
END:DAYLIGHT
END:VTIMEZONE
BEGIN:VEVENT
UID:751a02f4-00cc-41fa-a589-0d49b6904d22
DTSTAMP:20260424T103413Z
DESCRIPTION:
DTSTART;TZID=America/Anchorage:20260417T190000
DTEND;TZID=America/Anchorage:20260417T203000
LOCATION:Creek Street Cabaret
SUMMARY:Square Dance
END:VEVENT
END:VCALENDAR
