BEGIN:VCALENDAR
VERSION:2.0
PRODID:-//www.ketchikanarts.org//NONSGML kigkonsult.se iCalcreator 2.30.10/
 /
CALSCALE:GREGORIAN
METHOD:PUBLISH
UID:3d37a1dc-6630-41ed-9458-566560d08015
X-WR-CALDESC:Weekly live music to accompany your dining or drinking. No res
 ervations and the place can fill up quick. Some Fridays might not have a p
 erformance\, so be forewarned of unexpected cancellations. The playlists o
 n speaker are generally great enough\, so either way its worth a Friday ni
 ght social hour.
X-WR-RELCALID:c6b85a3db211b37b40317b6d91114c4c
X-WR-TIMEZONE:America/Anchorage
BEGIN:VTIMEZONE
TZID:America/Anchorage
BEGIN:STANDARD
TZNAME:AKST
DTSTART:20251102T020000
TZOFFSETFROM:-0800
TZOFFSETTO:-0900
RDATE:20261101T020000
END:STANDARD
BEGIN:DAYLIGHT
TZNAME:AKDT
DTSTART:20260308T020000
TZOFFSETFROM:-0900
TZOFFSETTO:-0800
RDATE:20270314T020000
END:DAYLIGHT
END:VTIMEZONE
BEGIN:VEVENT
UID:63026e2d-397e-4a2c-bbaa-a8e21b1bdca2
DTSTAMP:20260424T111116Z
DESCRIPTION:Weekly live music to accompany your dining or drinking. No rese
 rvations and the place can fill up quick. Some Fridays might not have a pe
 rformance\, so be forewarned of unexpected cancellations. The playlists on
  speaker are generally great enough\, so either way its worth a Friday nig
 ht social hour.
DTSTART;TZID=America/Anchorage:20260417T190000
DTEND;TZID=America/Anchorage:20260417T210000
LOCATION:the New York Cafe on Stedman St.
SUMMARY:Live Music @ the New York Cafe
END:VEVENT
END:VCALENDAR
