BEGIN:VCALENDAR
VERSION:2.0
PRODID:-//www.ketchikanarts.org//NONSGML kigkonsult.se iCalcreator 2.30.10/
 /
CALSCALE:GREGORIAN
METHOD:PUBLISH
UID:91b7d5c6-aac6-419f-a32e-2ed3a0adffad
X-WR-CALDESC:Doors open at 7pm\, stories start at 7:30pm. $3 at the door!
X-WR-RELCALID:761e237373942d6a9894d52ba337114b
X-WR-TIMEZONE:America/Anchorage
BEGIN:VTIMEZONE
TZID:America/Anchorage
BEGIN:STANDARD
TZNAME:AKST
DTSTART:20251102T020000
TZOFFSETFROM:-0800
TZOFFSETTO:-0900
RDATE:20261101T020000
END:STANDARD
BEGIN:DAYLIGHT
TZNAME:AKDT
DTSTART:20260308T020000
TZOFFSETFROM:-0900
TZOFFSETTO:-0800
RDATE:20270314T020000
END:DAYLIGHT
END:VTIMEZONE
BEGIN:VEVENT
UID:48857ee1-9195-487c-acef-98c14c545189
DTSTAMP:20260424T104057Z
DESCRIPTION:Doors open at 7pm\, stories start at 7:30pm. $3 at the door!
DTSTART;TZID=America/Anchorage:20260414T190000
DTEND;TZID=America/Anchorage:20260414T210000
LOCATION:Alaska Legends Cider and Wine
SUMMARY:Story SLAM - Theme...'It Wasn't Me'
END:VEVENT
END:VCALENDAR
