BEGIN:VCALENDAR
VERSION:2.0
PRODID:-//www.ketchikanarts.org//NONSGML kigkonsult.se iCalcreator 2.30.10/
 /
CALSCALE:GREGORIAN
METHOD:PUBLISH
UID:77fd0a05-e649-48cf-9144-5a3228c44919
X-WR-CALDESC:
X-WR-RELCALID:07faa54d26c3e798e504dc9cbf1b3e34
X-WR-TIMEZONE:America/Anchorage
BEGIN:VTIMEZONE
TZID:America/Anchorage
BEGIN:STANDARD
TZNAME:AKST
DTSTART:20251102T020000
TZOFFSETFROM:-0800
TZOFFSETTO:-0900
RDATE:20261101T020000
END:STANDARD
BEGIN:DAYLIGHT
TZNAME:AKDT
DTSTART:20260308T020000
TZOFFSETFROM:-0900
TZOFFSETTO:-0800
RDATE:20270314T020000
END:DAYLIGHT
END:VTIMEZONE
BEGIN:VEVENT
UID:146010cd-27ac-43cc-9dd0-f2c2065c4271
DTSTAMP:20260424T103510Z
DESCRIPTION:
DTSTART;TZID=America/Anchorage:20260411T180000
DTEND;TZID=America/Anchorage:20260411T190000
LOCATION:Kayhi
SUMMARY:Southeast Spring Music Festival
END:VEVENT
END:VCALENDAR
