BEGIN:VCALENDAR
VERSION:2.0
PRODID:-//www.ketchikanarts.org//NONSGML kigkonsult.se iCalcreator 2.30.10/
 /
CALSCALE:GREGORIAN
METHOD:PUBLISH
UID:b4be97f5-cd77-4cd6-b9de-1a2a2eb3f6ea
X-WR-CALDESC:
X-WR-RELCALID:d7c26712425d1a49bd9146ae7dfed672
X-WR-TIMEZONE:America/Anchorage
BEGIN:VTIMEZONE
TZID:America/Anchorage
BEGIN:STANDARD
TZNAME:AKST
DTSTART:20251102T020000
TZOFFSETFROM:-0800
TZOFFSETTO:-0900
RDATE:20261101T020000
END:STANDARD
BEGIN:DAYLIGHT
TZNAME:AKDT
DTSTART:20260308T020000
TZOFFSETFROM:-0900
TZOFFSETTO:-0800
RDATE:20270314T020000
END:DAYLIGHT
END:VTIMEZONE
BEGIN:VEVENT
UID:4f07ef11-5e12-4141-88e9-c9232f6993b0
DTSTAMP:20260424T111542Z
DESCRIPTION:
DTSTART;TZID=America/Anchorage:20260411T183000
DTEND;TZID=America/Anchorage:20260411T210000
LOCATION:SE Alaska Discovery Center
SUMMARY:Fly Fishing Film Festival
END:VEVENT
END:VCALENDAR
