BEGIN:VCALENDAR
VERSION:2.0
PRODID:-//www.ketchikanarts.org//NONSGML kigkonsult.se iCalcreator 2.30.10/
 /
CALSCALE:GREGORIAN
METHOD:PUBLISH
UID:13ee64b6-d806-4154-9eaa-bc7617ad2c80
X-WR-CALDESC:
X-WR-RELCALID:85ea01302ec7ca81f7d1c8628515607b
X-WR-TIMEZONE:America/Anchorage
BEGIN:VTIMEZONE
TZID:America/Anchorage
BEGIN:STANDARD
TZNAME:AKST
DTSTART:20251102T020000
TZOFFSETFROM:-0800
TZOFFSETTO:-0900
RDATE:20261101T020000
END:STANDARD
BEGIN:DAYLIGHT
TZNAME:AKDT
DTSTART:20260308T020000
TZOFFSETFROM:-0900
TZOFFSETTO:-0800
RDATE:20270314T020000
END:DAYLIGHT
END:VTIMEZONE
BEGIN:VEVENT
UID:2d0eaaa8-580f-442f-a39c-3cf8328f40be
DTSTAMP:20260424T104516Z
DESCRIPTION:
DTSTART;TZID=America/Anchorage:20260411T140000
DTEND;TZID=America/Anchorage:20260411T160000
LOCATION:Ketchikan Public Library
SUMMARY:Craft & Connect
END:VEVENT
END:VCALENDAR
