BEGIN:VCALENDAR
VERSION:2.0
PRODID:-//www.ketchikanarts.org//NONSGML kigkonsult.se iCalcreator 2.30.10/
 /
CALSCALE:GREGORIAN
METHOD:PUBLISH
UID:bdad1811-db83-4d82-a9a6-6c643962ca49
X-WR-CALDESC:
X-WR-RELCALID:2d39aeee1d6e3f4e4a72580de7f23bba
X-WR-TIMEZONE:America/Anchorage
BEGIN:VTIMEZONE
TZID:America/Anchorage
BEGIN:STANDARD
TZNAME:AKST
DTSTART:20251102T020000
TZOFFSETFROM:-0800
TZOFFSETTO:-0900
RDATE:20261101T020000
END:STANDARD
BEGIN:DAYLIGHT
TZNAME:AKDT
DTSTART:20260308T020000
TZOFFSETFROM:-0900
TZOFFSETTO:-0800
RDATE:20270314T020000
END:DAYLIGHT
END:VTIMEZONE
BEGIN:VEVENT
UID:7bfee8f1-65b0-406d-979f-d221e0e84cda
DTSTAMP:20260424T103412Z
DESCRIPTION:
DTSTART;TZID=America/Anchorage:20260411T100000
DTEND;TZID=America/Anchorage:20260411T120000
LOCATION:Ketchikan Public Library
SUMMARY:Bird Craftivity
END:VEVENT
END:VCALENDAR
