BEGIN:VCALENDAR
VERSION:2.0
PRODID:-//www.ketchikanarts.org//NONSGML kigkonsult.se iCalcreator 2.30.10/
 /
CALSCALE:GREGORIAN
METHOD:PUBLISH
UID:11eeb97a-dbe3-4e07-b7f9-9fc51cb28446
X-WR-CALDESC:
X-WR-RELCALID:f5e4b3b092d4e30b609a16f325bf17bf
X-WR-TIMEZONE:America/Anchorage
BEGIN:VTIMEZONE
TZID:America/Anchorage
BEGIN:STANDARD
TZNAME:AKST
DTSTART:20251102T020000
TZOFFSETFROM:-0800
TZOFFSETTO:-0900
RDATE:20261101T020000
END:STANDARD
BEGIN:DAYLIGHT
TZNAME:AKDT
DTSTART:20260308T020000
TZOFFSETFROM:-0900
TZOFFSETTO:-0800
RDATE:20270314T020000
END:DAYLIGHT
END:VTIMEZONE
BEGIN:VEVENT
UID:2c2a7135-4506-43c5-9c40-24dc7c0777f0
DTSTAMP:20260424T103433Z
DESCRIPTION:
DTSTART;TZID=America/Anchorage:20260410T180000
DTEND;TZID=America/Anchorage:20260412T170000
LOCATION:Craig\, Alaska
SUMMARY:Whalefest - Craig\, AK
END:VEVENT
END:VCALENDAR
