BEGIN:VCALENDAR
VERSION:2.0
PRODID:-//www.ketchikanarts.org//NONSGML kigkonsult.se iCalcreator 2.30.10/
 /
CALSCALE:GREGORIAN
METHOD:PUBLISH
UID:612e2187-cdab-412e-a24e-f2182397fe98
X-WR-CALDESC:
X-WR-RELCALID:cf4ea97a4491389b04bb7204db23a01f
X-WR-TIMEZONE:America/Anchorage
BEGIN:VTIMEZONE
TZID:America/Anchorage
BEGIN:STANDARD
TZNAME:AKST
DTSTART:20251102T020000
TZOFFSETFROM:-0800
TZOFFSETTO:-0900
RDATE:20261101T020000
END:STANDARD
BEGIN:DAYLIGHT
TZNAME:AKDT
DTSTART:20260308T020000
TZOFFSETFROM:-0900
TZOFFSETTO:-0800
RDATE:20270314T020000
END:DAYLIGHT
END:VTIMEZONE
BEGIN:VEVENT
UID:4a7c03e0-5873-4864-ae0f-dba4dcf7cf3a
DTSTAMP:20260424T103511Z
DESCRIPTION:
DTSTART;TZID=America/Anchorage:20260410T180000
DTEND;TZID=America/Anchorage:20260410T190000
LOCATION:Kayhi
SUMMARY:Southeast Spring Music Festival
END:VEVENT
END:VCALENDAR
