BEGIN:VCALENDAR
VERSION:2.0
PRODID:-//www.ketchikanarts.org//NONSGML kigkonsult.se iCalcreator 2.30.10/
 /
CALSCALE:GREGORIAN
METHOD:PUBLISH
UID:dc6f01f9-a40f-4d9c-ad4d-f77416fb9e3c
X-WR-CALDESC:A fun night of science and technology at the school.
X-WR-RELCALID:1bbe4981013d1c9ff69a25d3a6f368c7
X-WR-TIMEZONE:America/Anchorage
BEGIN:VTIMEZONE
TZID:America/Anchorage
BEGIN:STANDARD
TZNAME:AKST
DTSTART:20251102T020000
TZOFFSETFROM:-0800
TZOFFSETTO:-0900
RDATE:20261101T020000
END:STANDARD
BEGIN:DAYLIGHT
TZNAME:AKDT
DTSTART:20260308T020000
TZOFFSETFROM:-0900
TZOFFSETTO:-0800
RDATE:20270314T020000
END:DAYLIGHT
END:VTIMEZONE
BEGIN:VEVENT
UID:bbe3c666-3e17-463a-800c-af84f11c68fe
DTSTAMP:20260424T103413Z
DESCRIPTION:A fun night of science and technology at the school.
DTSTART;TZID=America/Anchorage:20260410T170000
DTEND;TZID=America/Anchorage:20260410T190000
LOCATION:TSAS
SUMMARY:Davinci Night - TSAS
END:VEVENT
END:VCALENDAR
