BEGIN:VCALENDAR
VERSION:2.0
PRODID:-//www.ketchikanarts.org//NONSGML kigkonsult.se iCalcreator 2.30.10/
 /
CALSCALE:GREGORIAN
METHOD:PUBLISH
UID:86955009-7a39-4371-9bc2-7f7d885bd8b1
X-WR-CALDESC:
X-WR-RELCALID:11a5c4ac31a48b6f0b62722822b75eb9
X-WR-TIMEZONE:America/Anchorage
BEGIN:VTIMEZONE
TZID:America/Anchorage
BEGIN:STANDARD
TZNAME:AKST
DTSTART:20251102T020000
TZOFFSETFROM:-0800
TZOFFSETTO:-0900
RDATE:20261101T020000
END:STANDARD
BEGIN:DAYLIGHT
TZNAME:AKDT
DTSTART:20260308T020000
TZOFFSETFROM:-0900
TZOFFSETTO:-0800
RDATE:20270314T020000
END:DAYLIGHT
END:VTIMEZONE
BEGIN:VEVENT
UID:0e5594be-7f21-4939-b91f-75990ce40886
DTSTAMP:20260424T103812Z
DESCRIPTION:
DTSTART;TZID=America/Anchorage:20260402T170000
DTEND;TZID=America/Anchorage:20260402T190000
LOCATION:Craig Recreation
SUMMARY:Rabbit Painting - Craig\, AK
END:VEVENT
END:VCALENDAR
