BEGIN:VCALENDAR
VERSION:2.0
PRODID:-//www.ketchikanarts.org//NONSGML kigkonsult.se iCalcreator 2.30.10/
 /
CALSCALE:GREGORIAN
METHOD:PUBLISH
UID:6878858a-75c2-4063-979f-f52476d220df
X-WR-CALDESC:First Thursday of the Month\nJoin the fun opportunity in singi
 ng like a sailor from times of ol'
X-WR-RELCALID:52a1ec9ffdcafd6e8d090fddb8088a94
X-WR-TIMEZONE:America/Anchorage
BEGIN:VTIMEZONE
TZID:America/Anchorage
BEGIN:STANDARD
TZNAME:AKST
DTSTART:20251102T020000
TZOFFSETFROM:-0800
TZOFFSETTO:-0900
RDATE:20261101T020000
END:STANDARD
BEGIN:DAYLIGHT
TZNAME:AKDT
DTSTART:20260308T020000
TZOFFSETFROM:-0900
TZOFFSETTO:-0800
RDATE:20270314T020000
END:DAYLIGHT
END:VTIMEZONE
BEGIN:VEVENT
UID:9a5e03d3-894d-4b23-b5d1-4df449448248
DTSTAMP:20260424T110855Z
DESCRIPTION:First Thursday of the Month\nJoin the fun opportunity in singin
 g like a sailor from times of ol'
DTSTART;TZID=America/Anchorage:20260402T180000
DTEND;TZID=America/Anchorage:20260402T200000
LOCATION:Ketchikan Fish House - Salmon Landing Area
SUMMARY:Fish House Sea Shanty
END:VEVENT
END:VCALENDAR
