BEGIN:VCALENDAR
VERSION:2.0
PRODID:-//www.ketchikanarts.org//NONSGML kigkonsult.se iCalcreator 2.30.10/
 /
CALSCALE:GREGORIAN
METHOD:PUBLISH
UID:278b2965-12fd-4066-a652-a18dc3b86cd1
X-WR-CALDESC:
X-WR-RELCALID:f3ae9456e52e36330feaf64bc9717bfc
X-WR-TIMEZONE:America/Anchorage
BEGIN:VTIMEZONE
TZID:America/Anchorage
BEGIN:STANDARD
TZNAME:AKST
DTSTART:20251102T020000
TZOFFSETFROM:-0800
TZOFFSETTO:-0900
RDATE:20261101T020000
END:STANDARD
BEGIN:DAYLIGHT
TZNAME:AKDT
DTSTART:20260308T020000
TZOFFSETFROM:-0900
TZOFFSETTO:-0800
RDATE:20270314T020000
END:DAYLIGHT
END:VTIMEZONE
BEGIN:VEVENT
UID:c2b93c8d-0383-4e96-9c6b-d9de613b7f1a
DTSTAMP:20260424T104823Z
DESCRIPTION:
DTSTART;TZID=America/Anchorage:20260331T020000
DTEND;TZID=America/Anchorage:20260331T020001
LOCATION:
SUMMARY:GAG Zine Submission Deadline
END:VEVENT
END:VCALENDAR
