BEGIN:VCALENDAR
VERSION:2.0
PRODID:-//www.ketchikanarts.org//NONSGML kigkonsult.se iCalcreator 2.30.10/
 /
CALSCALE:GREGORIAN
METHOD:PUBLISH
UID:7c51b1d5-e339-4162-85ab-51eef2a448ec
X-WR-CALDESC:
X-WR-RELCALID:90ca284884f2946ff4b20df06584e4ba
X-WR-TIMEZONE:America/Anchorage
BEGIN:VTIMEZONE
TZID:America/Anchorage
BEGIN:STANDARD
TZNAME:AKST
DTSTART:20251102T020000
TZOFFSETFROM:-0800
TZOFFSETTO:-0900
RDATE:20261101T020000
END:STANDARD
BEGIN:DAYLIGHT
TZNAME:AKDT
DTSTART:20260308T020000
TZOFFSETFROM:-0900
TZOFFSETTO:-0800
RDATE:20270314T020000
END:DAYLIGHT
END:VTIMEZONE
BEGIN:VEVENT
UID:b303659b-a3d6-4ff7-82e6-67fa9ee73184
DTSTAMP:20260424T105041Z
DESCRIPTION:
DTSTART;TZID=America/Anchorage:20260329T100000
DTEND;TZID=America/Anchorage:20260329T120000
LOCATION:60 Don Finney Lane Suite 201\, Ketchikan\, AK
SUMMARY:Writing in the Rain - In Person Writer Circle
END:VEVENT
END:VCALENDAR
