BEGIN:VCALENDAR
VERSION:2.0
PRODID:-//www.ketchikanarts.org//NONSGML kigkonsult.se iCalcreator 2.30.10/
 /
CALSCALE:GREGORIAN
METHOD:PUBLISH
UID:d6280cdd-68f9-4436-8270-26905853184c
X-WR-CALDESC:
X-WR-RELCALID:9d5fddd6a33ce1a42a90b0a39b257cf7
X-WR-TIMEZONE:America/Anchorage
BEGIN:VTIMEZONE
TZID:America/Anchorage
BEGIN:STANDARD
TZNAME:AKST
DTSTART:20251102T020000
TZOFFSETFROM:-0800
TZOFFSETTO:-0900
RDATE:20261101T020000
END:STANDARD
BEGIN:DAYLIGHT
TZNAME:AKDT
DTSTART:20260308T020000
TZOFFSETFROM:-0900
TZOFFSETTO:-0800
RDATE:20270314T020000
END:DAYLIGHT
END:VTIMEZONE
BEGIN:VEVENT
UID:e12e8dc5-a37b-4571-924c-8ec7cf31a67f
DTSTAMP:20260424T103550Z
DESCRIPTION:
DTSTART;TZID=America/Anchorage:20260328T090000
DTEND;TZID=America/Anchorage:20260328T140000
LOCATION:First Lutheran Church Gym
SUMMARY:Spring Bazaar - First Lutheran
END:VEVENT
END:VCALENDAR
