BEGIN:VCALENDAR
VERSION:2.0
PRODID:-//www.ketchikanarts.org//NONSGML kigkonsult.se iCalcreator 2.30.10/
 /
CALSCALE:GREGORIAN
METHOD:PUBLISH
UID:fff32583-64d8-4c2a-b1ba-ebe902b32a3b
X-WR-CALDESC:Don’t miss this chance to celebrate friendship between Ketchik
 an & Japan! Bring your friends and family for a fun cultural experience!
X-WR-RELCALID:ea8bb42e33e32238e33012ace4e90403
X-WR-TIMEZONE:America/Anchorage
BEGIN:VTIMEZONE
TZID:America/Anchorage
BEGIN:STANDARD
TZNAME:AKST
DTSTART:20251102T020000
TZOFFSETFROM:-0800
TZOFFSETTO:-0900
RDATE:20261101T020000
END:STANDARD
BEGIN:DAYLIGHT
TZNAME:AKDT
DTSTART:20260308T020000
TZOFFSETFROM:-0900
TZOFFSETTO:-0800
RDATE:20270314T020000
END:DAYLIGHT
END:VTIMEZONE
BEGIN:VEVENT
UID:85768331-5d2e-43a5-ad73-5284e12e8c38
DTSTAMP:20260424T104052Z
DESCRIPTION:Don’t miss this chance to celebrate friendship between Ketchika
 n & Japan! Bring your friends and family for a fun cultural experience!
DTSTART;TZID=America/Anchorage:20260328T100000
DTEND;TZID=America/Anchorage:20260328T120000
LOCATION:Plaza Mall in Ketchikan
SUMMARY:Japan Day Culture Event
END:VEVENT
END:VCALENDAR
