BEGIN:VCALENDAR
VERSION:2.0
PRODID:-//www.ketchikanarts.org//NONSGML kigkonsult.se iCalcreator 2.30.10/
 /
CALSCALE:GREGORIAN
METHOD:PUBLISH
UID:dfa201a5-f15c-4160-b90b-434631115bd6
X-WR-CALDESC:Friday Night Insight - Kanayama Exchange\nFormer and current t
 eachers and students with the Ketchikan Gero Kanayama Exchange program wil
 l discuss the exchange’s history\, future and positive effects it’s had on
  hundreds of people over the past 38 years.
X-WR-RELCALID:c5a378bb5f597cf130d958114322dfed
X-WR-TIMEZONE:America/Anchorage
BEGIN:VTIMEZONE
TZID:America/Anchorage
BEGIN:STANDARD
TZNAME:AKST
DTSTART:20251102T020000
TZOFFSETFROM:-0800
TZOFFSETTO:-0900
RDATE:20261101T020000
END:STANDARD
BEGIN:DAYLIGHT
TZNAME:AKDT
DTSTART:20260308T020000
TZOFFSETFROM:-0900
TZOFFSETTO:-0800
RDATE:20270314T020000
END:DAYLIGHT
END:VTIMEZONE
BEGIN:VEVENT
UID:9e8f66d2-5eb1-4bc8-9b16-0db1804b5ec2
DTSTAMP:20260424T103940Z
DESCRIPTION:Friday Night Insight - Kanayama Exchange\nFormer and current te
 achers and students with the Ketchikan Gero Kanayama Exchange program will
  discuss the exchange’s history\, future and positive effects it’s had on 
 hundreds of people over the past 38 years.
DTSTART;TZID=America/Anchorage:20260327T180000
DTEND;TZID=America/Anchorage:20260327T190000
LOCATION:The Discovery Center
SUMMARY:Ketchikan Gero Kanayama Presentation
END:VEVENT
END:VCALENDAR
