BEGIN:VCALENDAR
VERSION:2.0
PRODID:-//www.ketchikanarts.org//NONSGML kigkonsult.se iCalcreator 2.30.10/
 /
CALSCALE:GREGORIAN
METHOD:PUBLISH
UID:ed045a2e-0d87-40bb-8bbb-a6f139dc4338
X-WR-CALDESC:Prizes for adults and youth participants.
X-WR-RELCALID:e9c26ecfa193065bd3eb7041bd2df4d3
X-WR-TIMEZONE:America/Anchorage
BEGIN:VTIMEZONE
TZID:America/Anchorage
BEGIN:STANDARD
TZNAME:AKST
DTSTART:20251102T020000
TZOFFSETFROM:-0800
TZOFFSETTO:-0900
RDATE:20261101T020000
END:STANDARD
BEGIN:DAYLIGHT
TZNAME:AKDT
DTSTART:20260308T020000
TZOFFSETFROM:-0900
TZOFFSETTO:-0800
RDATE:20270314T020000
END:DAYLIGHT
END:VTIMEZONE
BEGIN:VEVENT
UID:f01b84b1-5dd8-4faf-af5d-8ee59effe333
DTSTAMP:20260424T110657Z
DESCRIPTION:Prizes for adults and youth participants.
DTSTART;TZID=America/Anchorage:20260327T165900
DTEND;TZID=America/Anchorage:20260327T170000
LOCATION:Southeast Alaska Discovery Center
SUMMARY:DEADLINE Call for Artists - Alaska Hummingbird Festival
END:VEVENT
END:VCALENDAR
