BEGIN:VCALENDAR
VERSION:2.0
PRODID:-//www.ketchikanarts.org//NONSGML kigkonsult.se iCalcreator 2.30.10/
 /
CALSCALE:GREGORIAN
METHOD:PUBLISH
UID:b24c728c-eb3b-422c-b804-4ee97dc68580
X-WR-CALDESC:21+\nDJ Archieologic\nMillennials Pop Night - 1994-2004 (respe
 ctively). Sing-alongs guaranteed. \n
X-WR-RELCALID:b06167e322f4695df6c501e2ba09d0d4
X-WR-TIMEZONE:America/Anchorage
BEGIN:VTIMEZONE
TZID:America/Anchorage
BEGIN:STANDARD
TZNAME:AKST
DTSTART:20251102T020000
TZOFFSETFROM:-0800
TZOFFSETTO:-0900
RDATE:20261101T020000
END:STANDARD
BEGIN:DAYLIGHT
TZNAME:AKDT
DTSTART:20260308T020000
TZOFFSETFROM:-0900
TZOFFSETTO:-0800
RDATE:20270314T020000
END:DAYLIGHT
END:VTIMEZONE
BEGIN:VEVENT
UID:837def46-d7d5-48f1-8bbd-a301f662b261
DTSTAMP:20260424T103844Z
DESCRIPTION:21+\nDJ Archieologic\nMillennials Pop Night - 1994-2004 (respec
 tively). Sing-alongs guaranteed. \n
DTSTART;TZID=America/Anchorage:20260321T213000
DTEND;TZID=America/Anchorage:20260322T010000
LOCATION:Arctic Bar across from the Asylum above the water
SUMMARY:Millennials Pop Night - Archieologic at the Arctic Bar
END:VEVENT
END:VCALENDAR
