BEGIN:VCALENDAR
VERSION:2.0
PRODID:-//www.ketchikanarts.org//NONSGML kigkonsult.se iCalcreator 2.30.10/
 /
CALSCALE:GREGORIAN
METHOD:PUBLISH
UID:01a217b5-6172-40b8-bc18-b4e87dd869f7
X-WR-CALDESC:Always a wonderful evening! Tickets are $5 for adults\, and $1
  for youth. Bring a dessert and get your ticket purchase refunded!
X-WR-RELCALID:a7a08591f4c8fd48c0024efa75489662
X-WR-TIMEZONE:America/Anchorage
BEGIN:VTIMEZONE
TZID:America/Anchorage
BEGIN:STANDARD
TZNAME:AKST
DTSTART:20251102T020000
TZOFFSETFROM:-0800
TZOFFSETTO:-0900
RDATE:20261101T020000
END:STANDARD
BEGIN:DAYLIGHT
TZNAME:AKDT
DTSTART:20260308T020000
TZOFFSETFROM:-0900
TZOFFSETTO:-0800
RDATE:20270314T020000
END:DAYLIGHT
END:VTIMEZONE
BEGIN:VEVENT
UID:c742a7b4-e612-477e-86be-11a44fcf5873
DTSTAMP:20260424T103843Z
DESCRIPTION:Always a wonderful evening! Tickets are $5 for adults\, and $1 
 for youth. Bring a dessert and get your ticket purchase refunded!
DTSTART;TZID=America/Anchorage:20260321T190000
DTEND;TZID=America/Anchorage:20260321T210000
LOCATION:Saxman Tribal House
SUMMARY:The Monthly Grind!!!
END:VEVENT
END:VCALENDAR
