BEGIN:VCALENDAR
VERSION:2.0
PRODID:-//www.ketchikanarts.org//NONSGML kigkonsult.se iCalcreator 2.30.10/
 /
CALSCALE:GREGORIAN
METHOD:PUBLISH
UID:65acd12b-6afb-4648-b129-f78da6c353a9
X-WR-CALDESC:This Tiny Taproom Concert will feature cellist Sean Heismann!!
 !!
X-WR-RELCALID:b9abf0e67f5c63f4530ca77de4921fd7
X-WR-TIMEZONE:America/Anchorage
BEGIN:VTIMEZONE
TZID:America/Anchorage
BEGIN:STANDARD
TZNAME:AKST
DTSTART:20251102T020000
TZOFFSETFROM:-0800
TZOFFSETTO:-0900
RDATE:20261101T020000
END:STANDARD
BEGIN:DAYLIGHT
TZNAME:AKDT
DTSTART:20260308T020000
TZOFFSETFROM:-0900
TZOFFSETTO:-0800
RDATE:20270314T020000
END:DAYLIGHT
END:VTIMEZONE
BEGIN:VEVENT
UID:19d343cb-2e9a-436a-8b8c-c11221249720
DTSTAMP:20260424T104057Z
DESCRIPTION:This Tiny Taproom Concert will feature cellist Sean Heismann!!!
 !
DTSTART;TZID=America/Anchorage:20260320T183000
DTEND;TZID=America/Anchorage:20260320T193000
LOCATION:Bawden Street Brewery
SUMMARY:Tiny TapRoom Concert feturing cellist Sean Heismann
END:VEVENT
END:VCALENDAR
