BEGIN:VCALENDAR
VERSION:2.0
PRODID:-//www.ketchikanarts.org//NONSGML kigkonsult.se iCalcreator 2.30.10/
 /
CALSCALE:GREGORIAN
METHOD:PUBLISH
UID:f28efcc1-b360-4e52-97e9-6b2fb80e94a2
X-WR-CALDESC:
X-WR-RELCALID:d2bb795a464c21bfdfda97bcf4f63719
X-WR-TIMEZONE:America/Anchorage
BEGIN:VTIMEZONE
TZID:America/Anchorage
BEGIN:STANDARD
TZNAME:AKST
DTSTART:20251102T020000
TZOFFSETFROM:-0800
TZOFFSETTO:-0900
RDATE:20261101T020000
END:STANDARD
BEGIN:DAYLIGHT
TZNAME:AKDT
DTSTART:20260308T020000
TZOFFSETFROM:-0900
TZOFFSETTO:-0800
RDATE:20270314T020000
END:DAYLIGHT
END:VTIMEZONE
BEGIN:VEVENT
UID:b674d995-2c54-4f80-8a70-75bc71cb64e3
DTSTAMP:20260424T103634Z
DESCRIPTION:
DTSTART;TZID=America/Anchorage:20260314T193000
DTEND;TZID=America/Anchorage:20260314T210000
LOCATION:Kayhi Auditorium
SUMMARY:Blithe Spirit - Presented by First City Players
END:VEVENT
END:VCALENDAR
